BEGIN:VCALENDAR
VERSION:2.0
PRODID:-//Eve Health - ECPv6.15.18//NONSGML v1.0//EN
CALSCALE:GREGORIAN
METHOD:PUBLISH
X-WR-CALNAME:Eve Health
X-ORIGINAL-URL:https://www.evehealth.com.au
X-WR-CALDESC:Events for Eve Health
REFRESH-INTERVAL;VALUE=DURATION:PT1H
X-Robots-Tag:noindex
X-PUBLISHED-TTL:PT1H
BEGIN:VTIMEZONE
TZID:Australia/Brisbane
BEGIN:STANDARD
TZOFFSETFROM:+1000
TZOFFSETTO:+1000
TZNAME:AEST
DTSTART:20240101T000000
END:STANDARD
END:VTIMEZONE
BEGIN:VEVENT
DTSTART;TZID=Australia/Brisbane:20260410T170000
DTEND;TZID=Australia/Brisbane:20260410T200000
DTSTAMP:20260419T234421
CREATED:20260106T071143Z
LAST-MODIFIED:20260406T231330Z
UID:10000058-1775840400-1775851200@www.evehealth.com.au
SUMMARY:April Lactation Class
DESCRIPTION:Despite what much of our society believes\, breastfeeding does not just happen – it can take know-how\, perseverance\, and is a team effort between baby and mum.\n\n \n  \n  \n  \n  \n  \n  \n  \n  \nJoin Lactation Consultant Candice Cherry for a Lactation Class to help you feel better prepared for when your breastfeeding journey starts.The class is 3 hours and covers topics such as: \n\nAntenatal expressing\nThe Golden Hour\nBreastfeeding in hospital – focusing on the transition over the first five days\nBreastfeeding once at home\nWhen breastfeeding needs a helping hand\n\nCandice will have time to chat through any questions you might have from the class or from your own experienc. As a Lactation Consultant\, Candice is always eager to help and provide insights that can deepen your understanding and support your breastfeeding journey. \nBookings are essential and places are limited. The cost is $213 (including booking fee) per couple. \n After you secure your ticket\, you will receive a confirmation email containing a link to provide any necessary information about your partner or support person accompanying you.
URL:https://www.evehealth.com.au/event/lactation-class-april26/
LOCATION:Eve Health Education Room\, Level 1\, Boundary Court Building\, 55 Little Edward St\,\, Spring Hill\, QLD\, Australia
CATEGORIES:Lactation
ATTACH;FMTTYPE=image/png:https://www.evehealth.com.au/wp-content/uploads/2025/06/Events-images.png
ORGANIZER;CN="Eve Health":MAILTO:reception@evehealth.com.au
END:VEVENT
BEGIN:VEVENT
DTSTART;TZID=Australia/Brisbane:20260313T170000
DTEND;TZID=Australia/Brisbane:20260313T200000
DTSTAMP:20260419T234421
CREATED:20260106T070529Z
LAST-MODIFIED:20260106T070847Z
UID:10000057-1773421200-1773432000@www.evehealth.com.au
SUMMARY:March Lactation Class
DESCRIPTION:Despite what much of our society believes\, breastfeeding does not just happen – it can take know-how\, perseverance\, and is a team effort between baby and mum.\n\n \n  \n  \n  \n  \n  \n  \n  \n  \nJoin Lactation Consultant Candice Cherry for a Lactation Class to help you feel better prepared for when your breastfeeding journey starts.The class is 3 hours and covers topics such as: \n\nAntenatal expressing\nThe Golden Hour\nBreastfeeding in hospital – focusing on the transition over the first five days\nBreastfeeding once at home\nWhen breastfeeding needs a helping hand\n\nCandice will have time to chat through any questions you might have from the class or from your own experienc. As a Lactation Consultant\, Candice is always eager to help and provide insights that can deepen your understanding and support your breastfeeding journey. \nBookings are essential and places are limited. The cost is $213 (including booking fee) per couple. \n After you secure your ticket\, you will receive a confirmation email containing a link to provide any necessary information about your partner or support person accompanying you.
URL:https://www.evehealth.com.au/event/lactation-class-march26/
LOCATION:Eve Health Education Room\, Level 1\, Boundary Court Building\, 55 Little Edward St\,\, Spring Hill\, QLD\, Australia
CATEGORIES:Lactation
ATTACH;FMTTYPE=image/png:https://www.evehealth.com.au/wp-content/uploads/2025/06/Events-images.png
ORGANIZER;CN="Eve Health":MAILTO:reception@evehealth.com.au
END:VEVENT
BEGIN:VEVENT
DTSTART;TZID=Australia/Brisbane:20260213T170000
DTEND;TZID=Australia/Brisbane:20260213T200000
DTSTAMP:20260419T234421
CREATED:20251010T070400Z
LAST-MODIFIED:20260206T060555Z
UID:10000051-1771002000-1771012800@www.evehealth.com.au
SUMMARY:February Lactation Class
DESCRIPTION:Despite what much of our society believes\, breastfeeding does not just happen – it can take know-how\, perseverance\, and is a team effort between baby and mum.\n\n \n  \n  \n  \n  \n  \n  \n  \n  \nJoin Lactation Consultant Candice Cherry for a Lactation Class to help you feel better prepared for when your breastfeeding journey starts.The class is 3 hours and covers topics such as: \n\nAntenatal expressing\nThe Golden Hour\nBreastfeeding in hospital – focusing on the transition over the first five days\nBreastfeeding once at home\nWhen breastfeeding needs a helping hand\n\nCandice will have time to chat through any questions you might have from the class or from your own experienc. As a Lactation Consultant\, Candice is always eager to help and provide insights that can deepen your understanding and support your breastfeeding journey. \nBookings are essential and places are limited. The cost is $213 (including booking fee) per couple. \n After you secure your ticket\, you will receive a confirmation email containing a link to provide any necessary information about your partner or support person accompanying you.
URL:https://www.evehealth.com.au/event/lactation-class-feb/
LOCATION:Eve Health Education Room\, Level 1\, Boundary Court Building\, 55 Little Edward St\,\, Spring Hill\, QLD\, Australia
CATEGORIES:Lactation
ATTACH;FMTTYPE=image/png:https://www.evehealth.com.au/wp-content/uploads/2025/06/Events-images.png
ORGANIZER;CN="Eve Health":MAILTO:reception@evehealth.com.au
END:VEVENT
BEGIN:VEVENT
DTSTART;TZID=Australia/Brisbane:20260114T170000
DTEND;TZID=Australia/Brisbane:20260114T200000
DTSTAMP:20260419T234421
CREATED:20251010T065948Z
LAST-MODIFIED:20251105T020810Z
UID:10000049-1768410000-1768420800@www.evehealth.com.au
SUMMARY:January Lactation Class
DESCRIPTION:Despite what much of our society believes\, breastfeeding does not just happen – it can take know-how\, perseverance\, and is a team effort between baby and mum.\n\n \n  \n  \n  \n  \n  \n  \n  \n  \nJoin Lactation Consultant Candice Cherry for a Lactation Class to help you feel better prepared for when your breastfeeding journey starts.The class is 3 hours and covers topics such as: \n\nAntenatal expressing\nThe Golden Hour\nBreastfeeding in hospital – focusing on the transition over the first five days\nBreastfeeding once at home\nWhen breastfeeding needs a helping hand\n\nCandice will have time to chat through any questions you might have from the class or from your own experienc. As a Lactation Consultant\, Candice is always eager to help and provide insights that can deepen your understanding and support your breastfeeding journey. \nBookings are essential and places are limited. The cost is $213 (including booking fee) per couple. \n After you secure your ticket\, you will receive a confirmation email containing a link to provide any necessary information about your partner or support person accompanying you.
URL:https://www.evehealth.com.au/event/lactation-class-jan/
LOCATION:Eve Health Education Room\, Level 1\, Boundary Court Building\, 55 Little Edward St\,\, Spring Hill\, QLD\, Australia
CATEGORIES:Lactation
ATTACH;FMTTYPE=image/png:https://www.evehealth.com.au/wp-content/uploads/2025/06/Events-images.png
ORGANIZER;CN="Eve Health":MAILTO:reception@evehealth.com.au
END:VEVENT
BEGIN:VEVENT
DTSTART;TZID=Australia/Brisbane:20251217T170000
DTEND;TZID=Australia/Brisbane:20251217T200000
DTSTAMP:20260419T234421
CREATED:20251010T064649Z
LAST-MODIFIED:20251010T070145Z
UID:10000048-1765990800-1766001600@www.evehealth.com.au
SUMMARY:December Lactation Class
DESCRIPTION:Despite what much of our society believes\, breastfeeding does not just happen – it can take know-how\, perseverance\, and is a team effort between baby and mum.\n\n \n  \n  \n  \n  \n  \n  \n  \n  \nJoin Lactation Consultant Candice Cherry for a Lactation Class to help you feel better prepared for when your breastfeeding journey starts.The class is 3 hours and covers topics such as: \n\nAntenatal expressing\nThe Golden Hour\nBreastfeeding in hospital – focusing on the transition over the first five days\nBreastfeeding once at home\nWhen breastfeeding needs a helping hand\n\nCandice will have time to chat through any questions you might have from the class or from your own experienc. As a Lactation Consultant\, Candice is always eager to help and provide insights that can deepen your understanding and support your breastfeeding journey. \nBookings are essential and places are limited. The cost is $213 (including booking fee) per couple. \n After you secure your ticket\, you will receive a confirmation email containing a link to provide any necessary information about your partner or support person accompanying you.
URL:https://www.evehealth.com.au/event/lactation-class-dec-2/
LOCATION:Eve Health Education Room\, Level 1\, Boundary Court Building\, 55 Little Edward St\,\, Spring Hill\, QLD\, Australia
CATEGORIES:Lactation
ATTACH;FMTTYPE=image/png:https://www.evehealth.com.au/wp-content/uploads/2025/06/Events-images.png
ORGANIZER;CN="Eve Health":MAILTO:reception@evehealth.com.au
END:VEVENT
BEGIN:VEVENT
DTSTART;TZID=Australia/Brisbane:20251119T170000
DTEND;TZID=Australia/Brisbane:20251119T200000
DTSTAMP:20260419T234421
CREATED:20250624T002645Z
LAST-MODIFIED:20251113T005314Z
UID:10000037-1763571600-1763582400@www.evehealth.com.au
SUMMARY:November Lactation Class
DESCRIPTION:Despite what much of our society believes\, breastfeeding does not just happen – it can take know-how\, perseverance\, and is a team effort between baby and mum.\n\n \n  \n  \n  \n  \n  \n  \n  \n  \nJoin Lactation Consultant Candice Cherry for a Lactation Classes to help you feel better prepared for when your breastfeeding journey starts.The class is 3 hours and covers topics such as: \n\nAntenatal expressing\nThe Golden Hour\nBreastfeeding in hospital – focusing on the transition over the first five days\nBreastfeeding once at home\nWhen breastfeeding needs a helping hand\n\nCandice will have time to chat through any questions you might have from the class or from your own experienc. As a Lactation Consultant\, Candice is always eager to help and provide insights that can deepen your understanding and support your breastfeeding journey. \nBookings are essential and places are limited. The cost is $213 (including booking fee) per couple. \n After you secure your ticket\, you will receive a confirmation email containing a link to provide any necessary information about your partner or support person accompanying you.
URL:https://www.evehealth.com.au/event/lactation-class-nov/
LOCATION:Eve Health Education Room\, Level 1\, Boundary Court Building\, 55 Little Edward St\,\, Spring Hill\, QLD\, Australia
CATEGORIES:Lactation
ATTACH;FMTTYPE=image/png:https://www.evehealth.com.au/wp-content/uploads/2025/06/Events-images.png
ORGANIZER;CN="Eve Health":MAILTO:reception@evehealth.com.au
END:VEVENT
BEGIN:VEVENT
DTSTART;TZID=Australia/Brisbane:20251105T170000
DTEND;TZID=Australia/Brisbane:20251105T200000
DTSTAMP:20260419T234421
CREATED:20250922T052507Z
LAST-MODIFIED:20250922T052507Z
UID:10000044-1762362000-1762372800@www.evehealth.com.au
SUMMARY:November Lactation Class
DESCRIPTION:Despite what much of our society believes\, breastfeeding does not just happen – it can take know-how\, perseverance\, and is a team effort between baby and mum.\n\n \n  \n  \n  \n  \n  \n  \n  \n  \nJoin Lactation Consultant Candice Cherry for a Lactation Classes to help you feel better prepared for when your breastfeeding journey starts.The class is 3 hours and covers topics such as: \n\nAntenatal expressing\nThe Golden Hour\nBreastfeeding in hospital – focusing on the transition over the first five days\nBreastfeeding once at home\nWhen breastfeeding needs a helping hand\n\nCandice will have time to chat through any questions you might have from the class or from your own experienc. As a Lactation Consultant\, Candice is always eager to help and provide insights that can deepen your understanding and support your breastfeeding journey. \nBookings are essential and places are limited. The cost is $213 (including booking fee) per couple. \n After you secure your ticket\, you will receive a confirmation email containing a link to provide any necessary information about your partner or support person accompanying you.
URL:https://www.evehealth.com.au/event/lactation-class-nov-2/
LOCATION:Eve Health Education Room\, Level 1\, Boundary Court Building\, 55 Little Edward St\,\, Spring Hill\, QLD\, Australia
CATEGORIES:Lactation
ATTACH;FMTTYPE=image/png:https://www.evehealth.com.au/wp-content/uploads/2025/06/Events-images.png
ORGANIZER;CN="Eve Health":MAILTO:reception@evehealth.com.au
END:VEVENT
BEGIN:VEVENT
DTSTART;TZID=Australia/Brisbane:20251017T170000
DTEND;TZID=Australia/Brisbane:20251017T200000
DTSTAMP:20260419T234421
CREATED:20250624T002432Z
LAST-MODIFIED:20250708T001301Z
UID:10000035-1760720400-1760731200@www.evehealth.com.au
SUMMARY:October Lactation Class
DESCRIPTION:Despite what much of our society believes\, breastfeeding does not just happen – it can take know-how\, perseverance\, and is a team effort between baby and mum.\n\n \n  \n  \n  \n  \n  \n  \n  \n  \nJoin Lactation Consultant Candice Cherry for a Lactation Classes to help you feel better prepared for when your breastfeeding journey starts.The class is 3 hours and covers topics such as: \n\nAntenatal expressing\nThe Golden Hour\nBreastfeeding in hospital – focusing on the transition over the first five days\nBreastfeeding once at home\nWhen breastfeeding needs a helping hand\n\nCandice will have time to chat through any questions you might have from the class or from your own experienc. As a Lactation Consultant\, Candice is always eager to help and provide insights that can deepen your understanding and support your breastfeeding journey. \nBookings are essential and places are limited. The cost is $213 (including booking fee) per couple. \n After you secure your ticket\, you will receive a confirmation email containing a link to provide any necessary information about your partner or support person accompanying you.
URL:https://www.evehealth.com.au/event/breastfeeding-october25/
LOCATION:Eve Health Education Room\, Level 1\, Boundary Court Building\, 55 Little Edward St\,\, Spring Hill\, QLD\, Australia
CATEGORIES:Lactation
ATTACH;FMTTYPE=image/png:https://www.evehealth.com.au/wp-content/uploads/2025/06/Events-images.png
ORGANIZER;CN="Eve Health":MAILTO:reception@evehealth.com.au
END:VEVENT
BEGIN:VEVENT
DTSTART;TZID=Australia/Brisbane:20250917T170000
DTEND;TZID=Australia/Brisbane:20250917T200000
DTSTAMP:20260419T234421
CREATED:20250624T002107Z
LAST-MODIFIED:20250915T015330Z
UID:10000034-1758128400-1758139200@www.evehealth.com.au
SUMMARY:September Lactation Class
DESCRIPTION:Despite what much of our society believes\, breastfeeding does not just happen – it can take know-how\, perseverance\, and is a team effort between baby and mum.\n\n \n  \n  \n  \n  \n  \n  \n  \n  \n  \nJoin Lactation Consultant Candice Cherry for a Lactation Classes to help you feel better prepared for when your breastfeeding journey starts.The class is 3 hours and covers topics such as: \n\nAntenatal expressing\nThe Golden Hour\nBreastfeeding in hospital – focusing on the transition over the first five days\nBreastfeeding once at home\nWhen breastfeeding needs a helping hand\n\nCandice will have time to chat through any questions you might have from the class or from your own experienc. As a Lactation Consultant\, Candice is always eager to help and provide insights that can deepen your understanding and support your breastfeeding journey. \nBookings are essential and places are limited. The cost is $213 (including booking fee) per couple. \n After you secure your ticket\, you will receive a confirmation email containing a link to provide any necessary information about your partner or support person accompanying you.
URL:https://www.evehealth.com.au/event/lactation-class-september/
LOCATION:Eve Health Education Room\, Level 1\, Boundary Court Building\, 55 Little Edward St\,\, Spring Hill\, QLD\, Australia
CATEGORIES:Lactation
ATTACH;FMTTYPE=image/png:https://www.evehealth.com.au/wp-content/uploads/2025/06/Events-images.png
ORGANIZER;CN="Eve Health":MAILTO:reception@evehealth.com.au
END:VEVENT
BEGIN:VEVENT
DTSTART;TZID=Australia/Brisbane:20250822T170000
DTEND;TZID=Australia/Brisbane:20250822T200000
DTSTAMP:20260419T234421
CREATED:20250415T043419Z
LAST-MODIFIED:20250708T001400Z
UID:10000025-1755882000-1755892800@www.evehealth.com.au
SUMMARY:August Lactation Class
DESCRIPTION:Despite what much of our society believes\, breastfeeding does not just happen – it can take know-how\, perseverance\, and is a team effort between baby and mum.\n\n \n  \n  \n  \n  \n  \n  \n  \n  \nJoin Lactation Consultant Candice Cherry for a Lactation Classes to help you feel better prepared for when your breastfeeding journey starts.The class is 3 hours and covers topics such as: \n\nAntenatal expressing\nThe Golden Hour\nBreastfeeding in hospital – focusing on the transition over the first five days\nBreastfeeding once at home\nWhen breastfeeding needs a helping hand\n\nCandice will have time to chat through any questions you might have from the class or from your own experienc. As a Lactation Consultant\, Candice is always eager to help and provide insights that can deepen your understanding and support your breastfeeding journey. \nBookings are essential and places are limited. The cost is $213 (including booking fee) per couple. \n After you secure your ticket\, you will receive a confirmation email containing a link to provide any necessary information about your partner or support person accompanying you.
URL:https://www.evehealth.com.au/event/breastfeeding-class/
LOCATION:Eve Health Education Room\, Level 1\, Boundary Court Building\, 55 Little Edward St\,\, Spring Hill\, QLD\, Australia
CATEGORIES:Lactation
ATTACH;FMTTYPE=image/png:https://www.evehealth.com.au/wp-content/uploads/2025/06/Events-images.png
ORGANIZER;CN="Eve Health":MAILTO:reception@evehealth.com.au
END:VEVENT
BEGIN:VEVENT
DTSTART;TZID=Australia/Brisbane:20250725T170000
DTEND;TZID=Australia/Brisbane:20250725T200000
DTSTAMP:20260419T234421
CREATED:20250625T021659Z
LAST-MODIFIED:20250630T012436Z
UID:10000043-1753462800-1753473600@www.evehealth.com.au
SUMMARY:July Lactation Class
DESCRIPTION:Despite what much of our society believes\, breastfeeding does not just happen – it can take know-how\, perseverance\, and is a team effort between baby and mum.\n\n \n  \n  \n  \n  \n  \n  \n  \n  \n  \n  \n  \nJoin Lactation Consultant Candice Cherry for a Lactation Classes to help you feel better prepared for when your breastfeeding journey starts.The class is 3 hours and covers topics such as: \n\nAntenatal expressing\nThe Golden Hour\nBreastfeeding in hospital – focusing on the transition over the first five days\nBreastfeeding once at home\nWhen breastfeeding needs a helping hand\n\nCandice will have time to chat through any questions you might have from the class or from your own experienc. As a Lactation Consultant\, Candice is always eager to help and provide insights that can deepen your understanding and support your breastfeeding journey. \nBookings are essential and places are limited. The cost is $213 (including booking fee) per couple. \n After you secure your ticket\, you will receive a confirmation email containing a link to provide any necessary information about your partner or support person accompanying you.
URL:https://www.evehealth.com.au/event/breastfeeding-class-3/
LOCATION:Eve Health Education Room\, Level 1\, Boundary Court Building\, 55 Little Edward St\,\, Spring Hill\, QLD\, Australia
CATEGORIES:Lactation
ATTACH;FMTTYPE=image/png:https://www.evehealth.com.au/wp-content/uploads/2025/06/Events-images.png
ORGANIZER;CN="Eve Health":MAILTO:reception@evehealth.com.au
END:VEVENT
END:VCALENDAR